Workbook
Name PA: DOSSIER!$A$2:$I$45
Name PA: #REF!
Name PA: 'BIRTHDAY SESSION'!$A$2:$I$47
Name TotalDépensesMensuelles: SUM(#REF!)
Name TotalDépensesMensuelles: SUM(#REF!)
Name TotalDépensesMensuelles: SUM(#REF!)
Name TotalDépensesMensuelles: SUM(#REF!)
Name TotalDépensesMensuelles: SUM(#REF!)
Name TotalDépensesMensuelles: SUM(#REF!)
Name TotalDépensesMensuelles: SUM(#REF!)
Name TotalDépensesMensuelles: SUM(#REF!)
Name TotalRevenusMensuels: SUM(#REF!)
Name TotalRevenusMensuels: SUM(#REF!)
Name TotalRevenusMensuels: SUM(#REF!)
Name TotalRevenusMensuels: SUM(#REF!)
Name TotalRevenusMensuels: SUM(#REF!)
Name TotalRevenusMensuels: SUM(#REF!)
Name TotalRevenusMensuels: SUM(#REF!)
Name TotalRevenusMensuels: SUM(#REF!)

Sheet BIRTHDAY SESSION
B10: Merci de remplir ce questionnaire, les réponses me permettront de préparer au mieux la séance pour la rendre inoubliable. Merci de de pas enregistrer ce document en pdf mais le laisser au même format. Me l'envoyer à celinemahieu@yahoo.fr
B12: Nom de famille et prénom du client
B14: Age de la personne: | E14: taille: | F14: ex: 1m75 | G14: la maman porte-t-elle des lunettes qu'elle souhaite garder? | I14: OUI/NON
B16: Adresse:
B18: Code postal: | F18: Ville:
B20: N° de téléphone | F20: Mail:
B23: Type de séance: | D23: BIRTDAY SESSION | E23: Age fêté | G23: ex: 40 ans
B25: Formule/Nbde photos / tarifs | D25: SIGNATURE | E25: 20 | F25: 260 | G25: OPTION | H25: MAQUILLAGE COIFFURE 50€ / NON
B27: OPTION | D27: OUI ( MAGAZINE 40€)
B29: Date convenue de la séance: | G29: Heure:
B31: Mode paiement acompte 50 € | D31: VIREMENT/PAYPAL/CHEQUE | E31: Mode de paiement du reste : | H31: VIREMENT/PAYPAL/CB/CHEQUE/ESPECES
B33: Demande de paiement en plusieurs fois? | E33: OUI/NON | G33: livraison des photos après le dernier paiement
B34: L'acompte doit être versé au moment de la réservation pour bloquer la réservation. Pour le règlement: le mode de paiement préféré est le virement ou paypal. CB possible et especes accepté si c'est votre seul moyen de règlement. Si paiement par paypal, indiquer un paiement entre proches. Une facture est délivrée le jour de la séance mentionnant l'acompte et le reste du paiement le jour de la séance.
B36: Autorisation de publication site et réseaux sociaux: | E36: OUI | H36: 2 photos offertes si OUI
B37: (sans être mentionné)
B40: QUESTIONS PRISE DE VUE | D40: pour coller parfaitement à vos attentes, voilà quelques questions afin de savoir ce que vous attendez
B42: Avez-vous des complexes particuliers? quoi? | E42: OUI/NON | F42: toutes les femmes sont sublimes mais les complexes, c'est tellement personnel!
B45: Aimez vous les photos les yeux fermées? | F45: cela crée une atmosphère particulière, moi j'aime, mais c'est vos photos!:-)
B46: QUESTIONS POST TRAITEMENT | D46: pour coller parfaitement à vos attentes, voilà quelques questions afin de savoir ce que vous attendez
B48: Aimeriez-vous des photos en noir et blanc? | F48: OUI QUELQUES UNES / NON
B50: Aimez-vous les effets particuliers? Reflet? Paillettes? | F50: OUI QUELQUES UNES / NON
B52: Une chose que je dois savoir sur vous ou bébé? (santé? Allergie?...)
B54: Comment m'avez-vous connu? | E54: FB/INSTAGRAM/SITE/CONNAISSANCE | H54: si connaissance NOM
B56: Merci d'avoir le pris le temps de compléter le questionnaire.

Sheet DOSSIER
I3: C89 | K3: N° CLIENT
I4: F00102 | K4: N° FACT
B11: Nom de la réservation: | D11: ='BIRTHDAY SESSION'!E12 -> 0
B13: TYPE DE SEANCE RESERVEE | D13: ='BIRTHDAY SESSION'!D23 -> BIRTDAY SESSION | E13: Date: | F13: ='BIRTHDAY SESSION'!D29 -> 0 | G13: Heure: | H13: ='BIRTHDAY SESSION'!H29 -> 0
B15: FORMULE | D15: ='BIRTHDAY SESSION'!H23 -> 0 | E15: NB: | F15: ='BIRTHDAY SESSION'!G23 -> ex: 40 ans | G15: ='BIRTHDAY SESSION'!I23 -> 0 | H15: AUTORISATION PUBLI: | I15: ='BIRTHDAY SESSION'!E36 -> OUI
B17: Supplément bain de lait? | D17: ='BIRTHDAY SESSION'!D25 -> SIGNATURE | E17: NB: | F17: ='BIRTHDAY SESSION'!G25 -> OPTION | G17: ='BIRTHDAY SESSION'!I25 -> 0 | H17: OPTION MAGAZINE | I17: ='BIRTHDAY SESSION'!D27 -> OUI ( MAGAZINE 40€)
B19: MOYEN PAIEMENT ACOMPTE | D19: ='BIRTHDAY SESSION'!D31 -> VIREMENT/PAYPAL/CHEQUE | F19: MOYEN RESTE JOUR J | G19: ='BIRTHDAY SESSION'!H31 -> VIREMENT/PAYPAL/CB/CHEQUE/ESPECES
B23: Une chose que je dois savoir sur vous ou bébé? (santé? Allergie?...) | H23: ='BIRTHDAY SESSION'!F52 -> 0
B25: Comment m'avez-vous connu? | E25: ='BIRTHDAY SESSION'!E54 -> FB/INSTAGRAM/SITE/CONNAISSANCE | H25: ='BIRTHDAY SESSION'!H54 -> si connaissance NOM
B27: OPTION MAQUILLAGE COIFFURE | F27: ='BIRTHDAY SESSION'!H25 -> MAQUILLAGE COIFFURE 50€ / NON
B32: AVANT SEANCE | C32: RESERVATION | D32: QUESTIONNAIRE | E32: PHOTO | F32: CONTRAT + CGV | G32: ACOMPTE | H32: FACTURE | I32: CHOIX
K33: PDF
K34: ENVOI
K36: RECEPTION
B38: JOUR J | C38: SHOOTING | D38: CONTRAT + CGV | E38: AUTO | F38: PAIEMENT | G38: SAUV | H38: TRI
E40: DOCS A FAIRE
B41: APRES SEANCE | C41: POST TRAIT | D41: MISE EN LIGNE GALERIE | E41: MERCI | F41: PARTAGE | G41: PUBLI | H41: CLASSER LES BESTE | I41: RECAP
C43: ENVOI LIEN | D43: OUV TELEHARGEMENT | E43: PHOTOS SUP | G43: AVIS | H43: ENVOI DOCS | I43: FERM GAL
B45: SUPPORTS? | C45: ='BIRTHDAY SESSION'!#REF! -> #REF!
B46: Notes:
B49: Avez-vous des complexes particuliers? | E49: ='BIRTHDAY SESSION'!E42 -> OUI/NON | F49: ='BIRTHDAY SESSION'!F42 -> toutes les femmes sont sublimes mais les complexes, c'est tellement personnel!
B52: Aimez vous les photos les yeux fermées? | E52: ='BIRTHDAY SESSION'!F45 -> cela crée une atmosphère particulière, moi j'aime, mais c'est vos photos!:-)
B54: Aimeriez-vous des photos en noir et blanc? | E54: ='BIRTHDAY SESSION'!F48 -> OUI QUELQUES UNES / NON
B56: Aimez-vous les effets particuliers? Reflet? Paillettes? | F56: ='BIRTHDAY SESSION'!F50 -> OUI QUELQUES UNES / NON

Sheet CONTRAT
B9: Nom de famille et Prénom de la cliente | E9: ='BIRTHDAY SESSION'!E12 -> 0
B11: Adresse: | D11: ='BIRTHDAY SESSION'!D16 -> 0
B13: Code postal: | D13: ='BIRTHDAY SESSION'!D18 -> 0 | E13: Ville; | F13: ='BIRTHDAY SESSION'!G18 -> 0
B16: Lieu de la séance: | D16: 35B, rue du général Leclerc, 67450 Mundolsheim (home studio du photographe)
B18: Date de la séance: | D18: ='BIRTHDAY SESSION'!D29 -> 0 | E18: Heure de début: | G18: ='BIRTHDAY SESSION'!H29 -> 0 | H18: Heure de fin: | I18: 16H
B20: Type de séance: | D20: ='BIRTHDAY SESSION'!D23 -> BIRTDAY SESSION | E20: Nb de photos et formule | G20: ='BIRTHDAY SESSION'!E25 -> 20 | H20: ='BIRTHDAY SESSION'!D25 -> SIGNATURE | I20: ='BIRTHDAY SESSION'!F25 -> 260
B22: Option magazine | D22: ='BIRTHDAY SESSION'!D27:F27 -> OUI ( MAGAZINE 40€)
B24: TARIF: | C24: =SUM('BIRTHDAY SESSION'!F25:'BIRTHDAY SESSION'!D27) -> 280 | D24: Mode de paiement: | E24: ='BIRTHDAY SESSION'!D31 -> VIREMENT/PAYPAL/CHEQUE | H24: ='BIRTHDAY SESSION'!H31 -> VIREMENT/PAYPAL/CB/CHEQUE/ESPECES
E25: ACOMPTE | H25: RESTE SEANCE
B27: 1. Un acompte de 50€ est demandé pour bloquer la réservation, minimum 10j avant la séance.
B28: Le reste du paiement se fait le jour-même de la séance (acompte déduit). En fonction de la formule choisie, vous recevrez le lien pour visionner et choisir vos photos entre 10 et 15 jours après la séance.
B29: 2. Les fichiers des photographies réalisées lors de la prestation sont conservés par le photographe qui en est propriétaire et titulaire du droit d'auteur conformément aux dispositions du Code de propriété intellectuelle. Le client est propriétaire de son image et le photographe s'engage à respecter ce droit. En conséquence, le photographe et le client devront se consulter mutuellement en cas d'utilisation des photos dans un autre cadre que celui défini par le présent accord.
B30: 2. Les fichiers des photographies réalisées lors de la prestation sont conservés par le photographe qui en est propriétaire et titulaire du droit d'auteur conformément aux dispositions du Code de propriété intellectuelle. Le client est propriétaire de son image et le photographe s'engage à respecter ce droit. En conséquence, le photographe et le client devront se consulter mutuellement en cas d'utilisation des photos dans un autre cadre que celui défini par le présent accord.
B31: 3. Le photographe est choisi pour son style photographique et ne peut être tenu responsable si les photos ne lui plaisent pas au client. Autrement dit, aucun remboursement ne pourra être effectué.
B32: 4. Le client s'engage à apporter assistance et à suivre les conseils du photographe afin d'obtenir le meilleur rendu. Il est également demandé aux parents de surveiller les enfants, le photographe ne pourra être tenu responsable d'un quelconque accident.
B33: 5. Dans le cas d'un empêchement important ou de maladie, le photographe s'engage à prévenir le client au moins 2h avant la séance et s'engage à replanifier au plus vite une nouvelle séance. Il en va de même pour le client, qui, si il ne prévient pas, pourra se voir refuser la planification d'une nouvelle séance et le remboursement de son acompte s'il y a eu. Tout retard sur la séance sera perdu. En cas de séance naissance, le photographe doit être prévenu max 48h après l'accouchement pour définir la date définitive de la séance, sans quoi la séance peut être annulée et l'acompte conservé. Toute signature de ce contrat vaut pour acceptation des Conditions Générales de Vente.
B34: DROITS D'UTILISATION
B36: Si vous autorisez le photographe à publier les photos sur le site internet et les réseaux sociaux:
B37: 2 photos vous sont offertes. Une autorisation ou non de publication acommpagnera ce contrat.
B40: PERSONNES PHOTOGRAPHIEES
B42: Personne 1: | C42: =E9 -> 0
B45: Noms et prénoms des clients | H45: Nom et prénom du photographe
B46: =C42 -> 0 | H46: MAHIEU CELINE
B47: Signatures des clients | H47: Signature du photographe

Sheet ACCOMPTE
D3: Acompte | F3: C E L I N E M A H I E U P H O T O G R A P H I E
C5: Acompte: | D5: =DOSSIER!I4 -> F00102 | F5: Date : | G5: 43960
P6: C21 | Q6: C21 | R6: C17
L7: 0
C8: CELINE MAHIEU EI | E8: A : | F8: ='BIRTHDAY SESSION'!E12 -> 0 | L8: 0.055 | R8: 43358
C9: Céline Mahieu Photographie | L9: 0.1 | R9: 43358
C10: 35b rue du Général Leclerc | E10: Adresse : | F10: ='BIRTHDAY SESSION'!D16 -> 0 | L10: 0.2 | R10: CHEQUE
C11: 67450 | D11: MUNDOLSHEIM | F11: Code Postal: | G11: ='BIRTHDAY SESSION'!D18 -> 0 | P11: P2 | Q11: P10
C12: Téléphone : 06 | D12: 06 88 79 47 89 | F12: Ville: | G12: ='BIRTHDAY SESSION'!G18 -> 0 | P12: 0 | Q12: 0.25
C13: Mail : | D13: celinemahieu@yahoo.fr | F13: Mail: | G13: ='BIRTHDAY SESSION'!G20 -> 0 | P13: =VLOOKUP(P11,'[1]BASE PRODUITS'!A6:E691,3,0) -> 200 | Q13: =VLOOKUP(Q11,'[1]BASE PRODUITS'!A6:E691,3,0) -> 250
C14: Site internet : | D14: http://celinemahieuphotographie.fr | F14: N° Teléphone: | G14: ='BIRTHDAY SESSION'!D20 -> 0 | P14: GROSSESSE | Q14: NAISSANCE
C15: Siret : | D15: 83856740200014 | G15: REF: | H15: =DOSSIER!I3 -> C89
P16: 43386
C19: Référence | D19: Description | E19: PU HT | F19: Quantité | G19: Remise | H19: Montant HT | K19: taux tva | L19: montant tva
A21: 5 | K21: =#REF! -> #REF! | L21: =IF(ISERROR(H21*#REF!),0,H21*#REF!) -> 0
C22: P1 | D22: =VLOOKUP(C22,'BASE PRODUITS'!A7:B44,2,0) -> SEANCE GROSSESSE FORMULE "ESSENTIEL" | K22: =#REF! -> #REF! | L22: =IF(ISERROR(H22*#REF!),0,H22*#REF!) -> 0
D23: =VLOOKUP(C22,'BASE PRODUITS'!A7:D44,4,0) -> 10 PHOTOS / 1H | K23: =#REF! -> #REF! | L23: =IF(ISERROR(H23*#REF!),0,H23*#REF!) -> 0
D24: =VLOOKUP(C24,'BASE PRODUITS'!A9:B46,2,0) -> #N/A | K24: =#REF! -> #REF! | L24: =IF(ISERROR(H24*#REF!),0,H24*#REF!) -> 0
C25: P39 | D25: =VLOOKUP(C25,'BASE PRODUITS'!A10:B47,2,0) -> SEANCE COUPLE FORMULE "ESSENTIEL" | K25: =#REF! -> #REF! | L25: =IF(ISERROR(H25*#REF!),0,H25*#REF!) -> 0
D26: =VLOOKUP(C26,'BASE PRODUITS'!A11:B48,2,0) -> #N/A | K26: =#REF! -> #REF! | L26: =IF(ISERROR(H26*#REF!),0,H26*#REF!) -> 0
D27: =VLOOKUP(C27,'BASE PRODUITS'!A12:B49,2,0) -> #N/A | K27: =#REF! -> #REF! | L27: =IF(ISERROR(H27*#REF!),0,H27*#REF!) -> 0
C28: P35 | D28: =VLOOKUP(C28,'BASE PRODUITS'!A13:B51,2,0) -> OPTION DECOR LIT BOHEME | K28: =#REF! -> #REF! | L28: =IF(ISERROR(H28*#REF!),0,H28*#REF!) -> 0
D29: =VLOOKUP(C28,'BASE PRODUITS'!A13:D54,4,0) -> 0 | K29: =#REF! -> #REF! | L29: =IF(ISERROR(H29*#REF!),0,H29*#REF!) -> 0
K30: =#REF! -> #REF! | L30: =IF(ISERROR(H30*#REF!),0,H30*#REF!) -> 0
H31: =IF(ISERROR(E31*F31),"",(E31*F31)-G31*E31*F31) | K31: =#REF! -> #REF! | L31: =IF(ISERROR(H31*#REF!),0,H31*#REF!) -> 0
H32: =IF(ISERROR(E32*F32),"",(E32*F32)-G32*E32*F32) | K32: =#REF! -> #REF! | L32: =IF(ISERROR(H32*#REF!),0,H32*#REF!) -> 0
H33: =IF(ISERROR(E33*F33),"",(E33*F33)-G33*E33*F33) | K33: =#REF! -> #REF! | L33: =IF(ISERROR(H33*#REF!),0,H33*#REF!) -> 0
H34: =IF(ISERROR(E34*F34),"",(E34*F34)-G34*E34*F34) | K34: =#REF! -> #REF! | L34: =IF(ISERROR(H34*#REF!),0,H34*#REF!) -> 0
H35: =IF(ISERROR(E35*F35),"",(E35*F35)-G35*E35*F35) | K35: =#REF! -> #REF! | L35: =IF(ISERROR(H35*#REF!),0,H35*#REF!) -> 0
H36: =IF(ISERROR(E36*F36),"",(E36*F36)-G36*E36*F36) | K36: =#REF! -> #REF! | L36: =IF(ISERROR(H36*#REF!),0,H36*#REF!) -> 0
H37: =IF(ISERROR(E37*F37),"",(E37*F37)-G37*E37*F37) | K37: =#REF! -> #REF! | L37: =IF(ISERROR(H37*#REF!),0,H37*#REF!) -> 0
H38: =IF(ISERROR(E38*F38),"",(E38*F38)-G38*E38*F38) | K38: =#REF! -> #REF! | L38: =IF(ISERROR(H38*#REF!),0,H38*#REF!) -> 0
C39: Échéance : | D39: =G5 -> 43960 | G39: € HT | H39: =H22 -> 0 | K39: =#REF! -> #REF! | L39: =IF(ISERROR(#REF!*#REF!),0,#REF!*#REF!) -> 0
K40: =#REF! -> #REF! | L40: =IF(ISERROR(#REF!*#REF!),0,#REF!*#REF!) -> 0
C41: Règlement : | D41: ='BIRTHDAY SESSION'!D31 -> VIREMENT/PAYPAL/CHEQUE | F41: TOTAL € | H41: =H39 -> 0 | K41: =#REF! -> #REF! | L41: =IF(ISERROR(#REF!*#REF!),0,#REF!*#REF!) -> 0
C42: Exonéré de TVA, art. 293-B du CGI | H42: =IF(ISERROR(E42*F42),"",(E42*F42)-G42*E42*F42) | K42: =#REF! -> #REF! | L42: =IF(ISERROR(#REF!*#REF!),0,#REF!*#REF!) -> 0
H43: =IF(ISERROR(E43*F43),"",(E43*F43)-G43*E43*F43) | K43: =#REF! -> #REF! | L43: =IF(ISERROR(#REF!*#REF!),0,#REF!*#REF!) -> 0
H44: =IF(ISERROR(E44*F44),"",(E44*F44)-G44*E44*F44) | K44: =#REF! -> #REF! | L44: =IF(ISERROR(H42*#REF!),0,H42*#REF!) -> 0
H45: =IF(ISERROR(E45*F45),"",(E45*F45)-G45*E45*F45) | K45: =#REF! -> #REF! | L45: =IF(ISERROR(H43*#REF!),0,H43*#REF!) -> 0
C46: Paiement à effectuer au plus tard le jour de la séance. | K46: =#REF! -> #REF! | L46: =IF(ISERROR(H44*#REF!),0,H44*#REF!) -> 0
...

Sheet CGV 
C2: En cas de retard du client, le temps perdu ne pourra être rattrapé et ne fera en aucun cas l’objet qu’un quelconque remboursement. Si retard de plus de 30 min (1h sur les naissances) ,la séance sera annulée et l'acompte perdue.
C5: 4. Prix
A6: Les présentes Conditions Générales de Vente (CGV) créent un accord légal et s’appliquent à toutes les commandes conclues entre le client et CELINE MAHIEU PHOTOGRAPHIE. (CELINE MAHIEU EI) | C6: Le prix est celui valable à la date de la commande et mentionné sur le contrat que vous avez signé ou validé par l'envoi de l'acompte.
C9: 5. Paiement
C10: Céline Mahieu Photographie accepte les paiements en espèces, par CB (sauf pour l'acompte), chèque, virement et paypal (entre proches). Quelque soit le mode de paiement, le solde devra être acquitté le jour de la séance sauf bon cadeau à régler avant envoi. (acompte déduit) Aucune ristourne pour paiement comptant ne pourra être accordée. Pour toute demande de paiement en plusieurs fois, il faudra demander en amont l’accord du photographe qui fixera les modalités.
A11: 1. Objet
A12: Céline Mahieu Photographie propose des prestations photographiques telles que présentées sur son site internet : http://celinemahieu photographie.fr
A15: La passation d’une commande par le client entraine l’entière adhésion aux présentes conditions générales de vente (CGV) sauf conditions particulières consenties par écrit entre la photographe et le client. Les présentes CGV forment un document contractuel indivisible avec le contrat de vente joint en annexe, que le client s’engage à lire avant la séance. Tout envoi d'acompte valide l'acceptation de ces conditions qui seront tous obligatoirement paraphés, complétés et signé au plus tard le jour de la séance.
C17: En cas de chèque sans provision, le client sera averti par la photographe et disposera d’un délai de 72h pour régler la prestation en espèce , virement ou paypal à la photographe contre remise d’un reçu, sous peine de poursuite.
A20: Par le simple fait de réserver une séance, le client déclare avoir pris connaissance des présentes CGV et s’engage à les respecter.
C21: 6. Remise des photographies
A23: Les parents déclarent être majeurs, poser librement pour des photos, et autoriser des prises de vue de leur(s) enfant(s), suivant le style qu’ils souhaitent (si l’un des parents est mineur, les signatures des parents ou représentants légaux sont obligatoires). | C23: Le délai de remise des photos est convenu lors de la signature du contrat en fonction du forfait choisi. Il ne peut excéder 21 jours sauf cas exceptionnel tel qu’une panne informatique, maladie ou autre. Le photographe s’engagera néanmoins à ne pas excéder 21 jours ou procédera à une remise supplémentaire de quelques photos.
A27: 2. Réservation de reportage photo | C27: Un lien vous sera envoyé vous aurez 1 mois pour sélectionner les photos que vous souhaitez dans votre forfait. (10€ vous seront demandés pour réouvrir la galerie ce délai passé). Vous pourrez à ce moment-là les télécharger dès déblocage de ma part, au plus tard 5 jours après votre choix. Toute photo supplémentaire donnera lieu à une nouvelle facture. La galerie pourra être réouverte ultérieurement si vous souhaitez racheter des photos.
A28: La réservation d’une prestation photographique se fait exclusivement par téléphone 06.88.79.47.89, e-mail celinemahieu@yahoo.fr , la page ME CONTACTER de mon site ou via la messagerie de ma page Facebook ou Instagram.
A31: La réservation d’une prestation photographique peut se faire à tout moment sous réserve de la disponibilité de la photographe. Un guide de séance vous est alors proposé en téléchargement sur mon site. En réservant chez Céline Mahieu Photographie, le client s’engage donc à respecter son contenu.
C33: La livraison des fichiers numériques se fera sous la forme de fichiers jpeg.
A34: Pour les séances nouveau-nées les parents devront tout mettre en œuvre pour prévenir la photographe le jour ou le lendemain de la naissance de leur enfant afin de valider de manière officielle la date de la séance. Si les parents préviennent Céline Mahieu Photographie alors que le bébé a plus de 5jours, cette dernière se réserve le droit d’annuler la séance initialement planifié, sans remboursement de l’acompte. (Sauf cas exceptionnel)
C35: La photographe se détache de toute responsabilité en cas de perte ou détérioration des fichiers numériques remis au client.
C37: Le post-traitement, au même titre que la prise de vue, est propre à la photographe et fait partie intégrante de son travail, son style et son univers artistique. La photographe est la seule à décider du post-traitement qu’elle appliquera aux négatifs numériques. Seules les photographies traitées par la photographe seront exploitables par les deux parties. Le client ne peut donc effectuer aucune modification, que ce soit dans le traitement, le recadrage, la signature ou autre.
A42: Pour que la réservation soit effective, il faut impérativement effectuer un acompte de 50€ au plus vite avant le shooting pour qu’elle soit bloquée. Cet acompte vaut pour engagement et ne peut être remboursable. Si la séance est reportée, l’acompte reste du et sera déduit du total sous condition que la séance ne soit pas annulée à 48h du shooting ou moins (sauf motif impérieux type décès, certificat médical ou conditions météorologiques rendant le déplacement impossible) et reportée dans un délai de 6 mois maximum. Si ce délai de 48h n’est pas respecté, l’acompte sera perdu et ne donnera lieu à aucune compensation.
C44: Aucun fichier brut ne sera donné au client et la photographe se réserve le droit de les détruire dans le délai qui lui convient, au bout d’un an.
C47: 7. Délai de rétractation
C48: Le client dispose d’un délai de rétractation de 10 jours ouvrables après le versement de l'acompte pour remboursement de l’acompte.
A51: 3. Déroulement de la séance | C51: 8. Force majeure, maladie
A53: Il est interdit de prendre des photos avec un appareil photo, téléphone, tablette durant la séance (sauf accord du photographe) | C53: Céline Mahieu Photographie se réserve le droit de reporter une prestation en cas de force majeure ou de maladie. Un tel report ne pourra ni engager sa responsabilité ni donner lieu au versement de dommages et intérêts à quelque titre que ce soit. La photographe s’engage à faire son possible pour reprogrammer la séance dans les délai les plus courts possibles en fonction de son planning ou le cas échéant à aider le ou les clients à retrouver un photographe aux prestations similaires ou à rembourser l’acompte.
A56: Pour que la séance se déroule dans les meilleures conditions, seules les personnes participant à la séance peuvent y assister (sauf accord préalable de la photographe)
C58: CM
A59: Si le client annule la séance plus de 10 jours après avoir verser l'acompte, l’acompte est conservé. Il reste valable dans un délai dans de 6 mois sauf annulation à -de 48h de la séance sans motif impérieux. Si vous êtes amenés à reporter la séance pour cause de maladie ou force majeure, le photographe essayera dans la mesure du possible de vous refixer rapidement un rendez-vous, si son planning le permet, sans majoration tarifaire. En cas de second report sans motif valable et / ou en dernière minute, le photographe se réserve le droit d’annuler la séance et de conserver l’acompte. | C59: 12. Conservation des fichiers numériques
C60: La photographe s’engage à conserver (sauf catastrophe indépendante de sa volonté telle qu’un disque dur qui lâche, inondation, incendie ou autre) les fichiers numériques pendant 1 an après la date de la prise de vue. Au-delà la sauvegarde des fichiers n’est plus assurée et ceux-ci pourront être détruits.
C65: 13. Fichiers numériques et impression
A66: Le client doit donc s’engager à faire son maximum pour ne pas reporter la séance à la dernière minute (sauf raison exceptionnelle tel un décès, la présence d’un certificat médical ou des raisons météorologiques rendant le déplacement impossible) et comprendre qu’un rendez-vous postposé, c’est une perte financière pour le photographe.
C67: Il est vivement conseillé d’en faire au moins une copie sur un disque dur ou autre support.
C69: Si vous faites réaliser des tirages par un site internet, il est très important de décocher la case « retouche automatique » qui est parfois proposée et qui ruinerait le travail de post-traitement de la photographe. Dans le cas d’impression de tirages photo, la photographe décline toute responsabilité quant au résultat obtenu dans un laboratoire lambda. Celle-ci ne garantit le résultat que sur les tirages effectués par ses soins.
A71: 9. Problème technique et accident
A72: En cas de problème technique avec le matériel photographique ou d’un accident quelconque durant la prestation empêchant Céline Mahieu Photographie de remettre le travail demandé, l’intégralité du montant sera remboursée sans pour autant donner lieu au versement de dommages et intérêts à quelque titre que ce soit.
C75: De même la qualité des fichiers numériques peut ne pas être optimale sur un écran non calibré. La photographe décline toute responsabilité du à cet effet.
A77: 10. Propriété intellectuelle
A78: L’utilisation des photographies réalisées est soumise aux dispositions légales de droits d’auteur et de droits voisins. | C78: 14. Données à caractère personnel
A80: Les photographes sont protégés par la loi du 11 mars 1957 sur les droits d’auteur et par le code de la propriété intellectuelle. La remise des photographies entraine la cession du droit de reproduction des photographies sur tout support et tout format uniquement dans le cadre privé et familial. | C80: La photographe s’engage à préserver la vie privée de ses clients. En aucun cas les données recueillies ne seront cédées ou vendues à des tiers. Les informations personnelles demandées au client sont destinées exclusivement à la photographe à des fins de gestion administrative et commerciale.
A84: Le client est tenu de respecter les droits moraux liés aux œuvres de Céline Mahieu Photographie. | C84: 14. Style photographique
...

Sheet FACTURE
D4: Facture | F4: C E L I N E M A H I E U P H O T O G R A P H I E
G5: 1
C6: Facture: | D6: =DOSSIER!I4 -> F00102 | F6: Date : | G6: ='BIRTHDAY SESSION'!D29 -> 0
P7: C21 | Q7: C21 | R7: C17
L8: 0
C9: CELINE MAHIEU EI | E9: A : | F9: ='BIRTHDAY SESSION'!E12 -> 0 | L9: 0.055 | R9: 43358
C10: Céline Mahieu Photographie | L10: 0.1 | R10: 43358
C11: 35b rue du Général Leclerc | E11: Adresse : | F11: =ACCOMPTE!F10 -> 0 | L11: 0.2 | R11: CHEQUE
C12: 67450 | D12: MUNDOLSHEIM | F12: Code Postal: | G12: =ACCOMPTE!G11 -> 0 | P12: P2 | Q12: P10
C13: Téléphone : 06 | D13: 06 88 79 47 89 | F13: Ville: | G13: =ACCOMPTE!G12 -> 0 | P13: 0 | Q13: 0.25
C14: Mail : | D14: celinemahieu@yahoo.fr | F14: Mail: | G14: =ACCOMPTE!G13 -> 0 | P14: =VLOOKUP(P12,'[1]BASE PRODUITS'!A6:E691,3,0) -> 200 | Q14: =VLOOKUP(Q12,'[1]BASE PRODUITS'!A6:E691,3,0) -> 250
C15: Site internet : | D15: http://celinemahieuphotographie.fr | F15: N° Teléphone: | G15: =ACCOMPTE!G14 -> 0 | P15: GROSSESSE | Q15: NAISSANCE
C16: Siret : | D16: 83856740200014 | G16: REF: | H16: =DOSSIER!I3 -> C89
P17: 43386
C20: Référence | D20: Description | E20: PU HT | F20: Quantité | G20: Remise | H20: Montant HT | K20: taux tva | L20: montant tva
A22: 5 | K22: =#REF! -> #REF! | L22: =IF(ISERROR(H22*#REF!),0,H22*#REF!) -> 0
C23: P78 | D23: =VLOOKUP(C23,'BASE PRODUITS'!A8:B85,2,0) -> BIRTHDAY SESSION FORMULE "ESSENTIEL" | E23: 200 | F23: 1 | G23: 0 | H23: 200 | K23: =#REF! -> #REF! | L23: =IF(ISERROR(H23*#REF!),0,H23*#REF!) -> 0
D24: =VLOOKUP(C23,'BASE PRODUITS'!A7:D84,4,0) -> 10 PHOTOS / 1H | K24: =#REF! -> #REF! | L24: =IF(ISERROR(H24*#REF!),0,H24*#REF!) -> 0
K25: =#REF! -> #REF! | L25: =IF(ISERROR(H25*#REF!),0,H25*#REF!) -> 0
K26: =#REF! -> #REF! | L26: =IF(ISERROR(H26*#REF!),0,H26*#REF!) -> 0
K27: =#REF! -> #REF! | L27: =IF(ISERROR(H27*#REF!),0,H27*#REF!) -> 0
K28: =#REF! -> #REF! | L28: =IF(ISERROR(H28*#REF!),0,H28*#REF!) -> 0
K29: =#REF! -> #REF! | L29: =IF(ISERROR(H29*#REF!),0,H29*#REF!) -> 0
K30: =#REF! -> #REF! | L30: =IF(ISERROR(H30*#REF!),0,H30*#REF!) -> 0
K31: =#REF! -> #REF! | L31: =IF(ISERROR(H31*#REF!),0,H31*#REF!) -> 0
K32: =#REF! -> #REF! | L32: =IF(ISERROR(H32*#REF!),0,H32*#REF!) -> 0
K33: =#REF! -> #REF! | L33: =IF(ISERROR(H33*#REF!),0,H33*#REF!) -> 0
K34: =#REF! -> #REF! | L34: =IF(ISERROR(H34*#REF!),0,H34*#REF!) -> 0
H35: =IF(ISERROR(E35*F35),"",(E35*F35)-G35*E35*F35) | K35: =#REF! -> #REF! | L35: =IF(ISERROR(H35*#REF!),0,H35*#REF!) -> 0
H36: =IF(ISERROR(E36*F36),"",(E36*F36)-G36*E36*F36) | K36: =#REF! -> #REF! | L36: =IF(ISERROR(H36*#REF!),0,H36*#REF!) -> 0
H37: =IF(ISERROR(E37*F37),"",(E37*F37)-G37*E37*F37) | K37: =#REF! -> #REF! | L37: =IF(ISERROR(H37*#REF!),0,H37*#REF!) -> 0
H38: =IF(ISERROR(E38*F38),"",(E38*F38)-G38*E38*F38) | K38: =#REF! -> #REF! | L38: =IF(ISERROR(H38*#REF!),0,H38*#REF!) -> 0
H39: =IF(ISERROR(E39*F39),"",(E39*F39)-G39*E39*F39) | K39: =#REF! -> #REF! | L39: =IF(ISERROR(H39*#REF!),0,H39*#REF!) -> 0
C40: Échéance : | D40: =G6 -> 0 | F40: RESTE | G40: € HT | H40: =SUM(H22:H37) -> 200 | K40: =#REF! -> #REF! | L40: =IF(ISERROR(#REF!*#REF!),0,#REF!*#REF!) -> 0
K41: =#REF! -> #REF! | L41: =IF(ISERROR(#REF!*#REF!),0,#REF!*#REF!) -> 0
C42: Règlement : | D42: ='BIRTHDAY SESSION'!H31 -> VIREMENT/PAYPAL/CB/CHEQUE/ESPECES | F42: TOTAL € | H42: =H40 -> 200 | K42: =#REF! -> #REF! | L42: =IF(ISERROR(#REF!*#REF!),0,#REF!*#REF!) -> 0
C43: Exonéré de TVA, art. 293-B du CGI | H43: =IF(ISERROR(E43*F43),"",(E43*F43)-G43*E43*F43) | K43: =#REF! -> #REF! | L43: =IF(ISERROR(#REF!*#REF!),0,#REF!*#REF!) -> 0
H44: =IF(ISERROR(E44*F44),"",(E44*F44)-G44*E44*F44) | K44: =#REF! -> #REF! | L44: =IF(ISERROR(#REF!*#REF!),0,#REF!*#REF!) -> 0
C45: Tout règlement effectué implique l'acceptation des CGV disponibles à l'envoi du contrat ou sur mon site internet. | K45: =#REF! -> #REF! | L45: =IF(ISERROR(H43*#REF!),0,H43*#REF!) -> 0
C46: L'acompte est à régler 10 jours minimum avant la séance et le restant est du le jour de la séance. | H46: =IF(ISERROR(E46*F46),"",(E46*F46)-G46*E46*F46) -> 0 | K46: =#REF! -> #REF! | L46: =IF(ISERROR(H44*#REF!),0,H44*#REF!) -> 0
...

Sheet AUTORISATION DE PUBLICATION
B9: Nom de famille et Prénom du Client | E9: =[2]GROSSESSE!E12 -> 0
B11: Nom + prénom de la cliente | E11: ='BIRTHDAY SESSION'!E12 -> 0
B15: Date de la séance: | D15: ='BIRTHDAY SESSION'!D29 -> 0 | F15: Type de séance: | G15: =CONTRAT!D20 -> BIRTDAY SESSION
B18: AUTORISE | D18: REFUSE | F18: la publication des photos prises par CELINE MAHIEU PHOTOGRAPHIE
B22: sur les réseaux sociaux du photographe (instagram et facebook) sans être nommé, sur son site internet et sur tout
B23: support propre à son entreprise tel que les flyers, les cartes de visite ou albums de démonstration.
B26: 1. Les photographies sont protégées par la loi du 11 mars 1957 sur les droits d’auteur et par le code de propriété intellectuelle. La remise des photographies entraîne la cession du droit de reproduction des photographies sur tout support et tout format uniquement dans le cadre privé et familial. 2. Aucune photo ne pourra être vendue ou donnée lieu à une contre-partie financière, que ce soit pour le photographe ou le modèle (autre que la prestation initiale de la séance). 3. Le photographe s’engage à respecter la vie privée de ses clients en ne les citant sur aucune publication. Les éventuels commentaires ou légendes accompagnant les photos ne devront pas porter atteinte à l’image, la dignité ou la réputation des modèles ou du photographe. Les deux partis s’engagent à les supprimer dans la mesure du possible. 4. Si une photo devait être utilisée dans un contexte autre que celui défini par cette autorisation (ex:un magazine), l’accord sera demandé au préalable aux modèles avant toute publication. 5. Toute signature de cette autorisation implique la compréhension et le strict respect des engagements de chaque parti.
B34: Cette autorisation est valable tant qu'aucune contre- indication n'est donné au photogaphe par mail ou par courrier. En cas de changement d'avis, les 2 photos offertes seront facturées 10€ chacune.
B35: SIGNATURES:
B37: Noms et prénoms des clients | H37: Nom et prénom du photographe
B38: =E11 -> 0 | H38: MAHIEU CELINE
B39: Signatures des clients | H39: Signature du photographe

Sheet RAPPEL

Sheet BASE PRODUITS
A1: Base produits
B3: remise a jour des codes au 1er janvier 2024
A5: Produits et services | F5: Etude de la marge :
P6: C21 | Q6: C21 | R6: C17
A7: Référence produit | B7: Description | C7: Prix de vente € HT | D7: Remarques | F7: Coût d'achat du produit | G7: Coeff. marge
A8: P1 | B8: SEANCE GROSSESSE FORMULE "ESSENTIEL" | C8: 200 | D8: 10 PHOTOS / 1H | G8: =IF(ISERROR(C8/F8),"",C8/F8) | R8: 43358
A9: P2 | B9: SEANCE GROSSESSE FORMULE "SIGNATURE" | C9: 250 | D9: 20 PHOTOS / 1H-1H30 | G9: =IF(ISERROR(C9/F9),"",C9/F9) | R9: 43358
A10: P3 | B10: SEANCE GROSSESSE FORMULE "PRESTIGE" | C10: 300 | D10: 30 PHOTOS / 2H | G10: =IF(ISERROR(C10/F10),"",C10/F10) | R10: CHEQUE
A11: P4 | B11: SUPPLEMENT BAIN DE LAIT | C11: 95 | D11: 5 PHOTOS solo | G11: =IF(ISERROR(C11/F11),"",C11/F11) | P11: 0 | Q11: 0.25
A12: P5 | B12: SUPPLEMENT BAIN E LAIT | C12: 120 | D12: 10 PHOTOS duo | G12: =IF(ISERROR(C12/F12),"",C12/F12) | P12: =VLOOKUP(#REF!,'[3]BASE PRODUITS'!A6:E691,3,0) -> #REF! | Q12: =VLOOKUP(#REF!,'[3]BASE PRODUITS'!A6:E691,3,0) -> #REF!
A13: P6 | B13: SEANCE BAIN DE LAIT FORMULE "ESSENTIEL" | C13: 230 | D13: 10 PHOTOS SOLO | G13: =IF(ISERROR(C13/F13),"",C13/F13) | P13: GROSSESSE | Q13: NAISSANCE
A14: P7 | B14: SEANCE BAIN DE LAIT FORFAIT "SIGNATURE" | C14: 280 | D14: 20 PHOTOS SOLO | G14: =IF(ISERROR(C14/F14),"",C14/F14)
A15: P8 | B15: SEANCE NAISSANCE FORMULE "ESSENTIEL" | C15: 250 | D15: 10 PHOTOS / 2 H | G15: =IF(ISERROR(C15/F15),"",C15/F15) | P15: 43386
A16: P9 | B16: SEANCE NAISSANCE FORMULE "SIGNATURE" | C16: 300 | D16: 20 PHOTOS / 2-3H | G16: =IF(ISERROR(C16/F16),"",C16/F16)
A17: P10 | B17: SEANCE NAISSANCE FORMULE "PRESTIGE" | C17: 350 | D17: 30 PHOTOS / 3-4H | G17: =IF(ISERROR(C17/F17),"",C17/F17)
A18: P11 | B18: SEANCE BEBE ENFANT FORMULE "ESSENTIEL" | C18: 180 | D18: 10 PHOTOS / 1 H | G18: =IF(ISERROR(C18/F18),"",C18/F18)
A19: P12 | B19: SEANCE BEBE FORMULE "SIGNATURE" | C19: 230 | D19: 20 PHTOS/ 1H30 | G19: =IF(ISERROR(C19/F19),"",C19/F19)
A20: P13 | B20: SEANCE BEBE FORMULE "PRESTIGE" | C20: 280 | D20: 30 PHOTOS: 2H | G20: =IF(ISERROR(C20/F20),"",C20/F20)
A21: P14 | B21: SEANCE FAMILLE FORMULE "ESSENTIEL" | C21: 180 | D21: 10 PHOTOS / 30 MIN | G21: =IF(ISERROR(C21/F21),"",C21/F21)
A22: P15 | B22: SEANCE FAMILLE FORMULE "SIGNATURE" | C22: 230 | D22: 20 PHOTOS / 1H | G22: =IF(ISERROR(C22/F22),"",C22/F22)
A23: P16 | B23: SEANCE FAMILLE FORMULE "PRESTIGE" | C23: 280 | D23: 30 PHOTOS / 1H | G23: =IF(ISERROR(C23/F23),"",C23/F23)
A24: P17 | B24: SMASH THE CAKE FORMULE "ESSENTIEL" | C24: 210 | D24: 10 PHOTOS / 1H | G24: =IF(ISERROR(C24/F24),"",C24/F24)
A25: P18 | B25: SMASH THE CAKE FORMULE "SIGNATURE" | C25: 260 | D25: 20 PHOTOS /1H
A26: P19 | B26: SMASH THE CAKE PACK FORMULE "PRESTIGE" | C26: 310 | D26: 30 PHOTOS /1H30
A27: P20 | B27: SEANCE MAMAN ET MOI | C27: 220 | D27: LES 15 PHOTOS
A28: P21 | B28: SEANCE MILKBATH MERE-ENFANT FORMULE "ESSENTIEL" | C28: 210 | D28: 10 PHOTOS/ 1H
A29: P22 | B29: SEANCE MILKBATH MERE-ENFANT FORMULE "SIGNATURE" | C29: 260 | D29: 20 PHOTOS/1H
A30: P23 | B30: MINI NOEL COLLECTION PLAISIR | C30: 100 | D30: 30 MIN / 6 PHOTOS SUR LES DEUX DECORS
A31: P24 | B31: MINI NOEL COLLECTION MAXI PLAISIR | C31: 150 | D31: 30/MIN 10 PHOTOS SUR LES DEUX DECORS
A32: P25 | B32: SEANCE PORTRAIT DE FEMMEFORMULE "ESSENTIEL" | C32: 180 | D32: 1H/10 PHOTOS
A33: P26 | B33: SEANCE PORTRAIT DE FEMME FORMULE "SIGNATURE" | C33: 230 | D33: 1H30/20 PHOTOS
A34: P27 | B34: SEANCE PORTRAIT DE FEMME FORMULE "PRESTIGE" | C34: 280 | D34: 2H/30 PHOTOS
A35: P28 | B35: PRIX SPECIAL : INTEGRALITE DES PHOTOS | C35: 150 | D35: RESTE PHOTO GRANDE FORMULE
A36: P29 | B36: PRIX SPECIAL : INTEGRALITE DES PHOTOS | C36: 100 | D36: RESTE PHOTO PETITE FORMULE
... A39: P32 | B39: AJOUT DE PHOTOS AU FORFAIT PACK DE 10 | C39: 80 | D39: LES 10 PHOTOS
A40: P33 | B40: SUPPORT
A41: P34 | B41: OFFRE SPECIALE PACK | C41: 0 | D41: 5 photos offertes | G41: =IF(ISERROR(C41/F41),"",C41/F41)
A42: P35 | B42: OPTION DECOR LIT BOHEME | C42: 30
A43: P36 | B43: OPTION DECOR FENETRE BOHEME | C43: 20
A44: P37 | B44: TARIFS 2023
...
